View In:
ArcGIS JavaScript
ArcGIS Online map viewer
Google Earth
ArcMap
View Footprint In:
ArcGIS Online map viewer
Service Description: Available Water Capacity
Name: WatershedCharacteristics/AWC
Description: Available Water Capacity
Single Fused Map Cache: false
Extent:
XMin: -73.98318216001614
YMin: -33.751177993894686
XMax: -28.847982160016137
YMax: 5.269622006105315
Spatial Reference: 4674
(4674)
Initial Extent:
XMin: -73.98318216001614
YMin: -33.751177993894686
XMax: -28.847982160016137
YMax: 5.269622006105315
Spatial Reference: 4674
(4674)
Full Extent:
XMin: -73.98318216001614
YMin: -33.751177993894686
XMax: -28.847982160016137
YMax: 5.269622006105315
Spatial Reference: 4674
(4674)
Pixel Size X: 8.0E-4
Pixel Size Y: 8.0E-4
Band Count: 1
Pixel Type: S64
RasterFunction Infos: N/A
Mensuration Capabilities: Basic
Has Histograms: true
Has Colormap: false
Has Multi Dimensions : false
Rendering Rule:
Min Scale: 0
Max Scale: 0
Copyright Text: ANA; UFPR(2021)
Service Data Type: esriImageServiceDataTypeGeneric
Min Values: 0
Max Values: 0.209380569
Mean Values: 0.10935775874348
Standard Deviation Values: 0.032796607974608
Object ID Field:
Fields:
None
Default Mosaic Method: Center
Allowed Mosaic Methods:
SortField:
SortValue: null
Mosaic Operator: First
Default Compression Quality: 75
Default Resampling Method: Bilinear
Max Record Count: null
Max Image Height: 4100
Max Image Width: 15000
Max Download Image Count: null
Max Mosaic Image Count: null
Allow Raster Function: true
Allow Compute TiePoints: false
Supports Statistics: false
Supports Advanced Queries: false
Use StandardizedQueries: true
Raster Type Infos:
Name: Raster Dataset
Description: Supports all ArcGIS Raster Datasets
Help:
Has Raster Attribute Table: false
Edit Fields Info: null
Ownership Based AccessControl For Rasters: null
Child Resources:
Info
Histograms
Key Properties
Legend
MultiDimensionalInfo
rasterFunctionInfos
Supported Operations:
Export Image
Identify
Measure
Compute Histograms
Compute Statistics Histograms
Get Samples
Compute Class Statistics