{
 "currentVersion": 10.41,
 "serviceDescription": " Available Water Capacity",
 "name": "WatershedCharacteristics/AWC",
 "description": " Available Water Capacity",
 "extent": {
  "xmin": -73.98318216001614,
  "ymin": -33.751177993894686,
  "xmax": -28.847982160016137,
  "ymax": 5.269622006105315,
  "spatialReference": {
   "wkid": 4674,
   "latestWkid": 4674
  }
 },
 "initialExtent": {
  "xmin": -73.98318216001614,
  "ymin": -33.751177993894686,
  "xmax": -28.847982160016137,
  "ymax": 5.269622006105315,
  "spatialReference": {
   "wkid": 4674,
   "latestWkid": 4674
  }
 },
 "fullExtent": {
  "xmin": -73.98318216001614,
  "ymin": -33.751177993894686,
  "xmax": -28.847982160016137,
  "ymax": 5.269622006105315,
  "spatialReference": {
   "wkid": 4674,
   "latestWkid": 4674
  }
 },
 "pixelSizeX": 8.0E-4,
 "pixelSizeY": 8.0E-4,
 "bandCount": 1,
 "pixelType": "S64",
 "minPixelSize": 0,
 "maxPixelSize": 0,
 "copyrightText": "ANA; UFPR(2021)",
 "serviceDataType": "esriImageServiceDataTypeGeneric",
 "minValues": [
  0
 ],
 "maxValues": [
  0.209380569
 ],
 "meanValues": [
  0.10935775874348
 ],
 "stdvValues": [
  0.032796607974608
 ],
 "objectIdField": "",
 "fields": [],
 "capabilities": "Image,Metadata,Mensuration",
 "defaultMosaicMethod": "Center",
 "allowedMosaicMethods": "",
 "sortField": "",
 "sortValue": null,
 "mosaicOperator": "First",
 "defaultCompressionQuality": 75,
 "defaultResamplingMethod": "Bilinear",
 "maxImageHeight": 4100,
 "maxImageWidth": 15000,
 "allowRasterFunction": true,
 "rasterFunctionInfos": [],
 "rasterTypeInfos": [
  {
   "name": "Raster Dataset",
   "description": "Supports all ArcGIS Raster Datasets",
   "help": ""
  }
 ],
 "mensurationCapabilities": "Basic",
 "hasHistograms": true,
 "hasColormap": false,
 "hasRasterAttributeTable": false,
 "minScale": 0,
 "maxScale": 0,
 "exportTilesAllowed": false,
 "hasMultidimensions": false,
 "supportsStatistics": false,
 "supportsAdvancedQueries": false,
 "editFieldsInfo": null,
 "ownershipBasedAccessControlForRasters": null,
 "allowComputeTiePoints": false,
 "useStandardizedQueries": true,
 "advancedQueryCapabilities": {
  "useStandardizedQueries": true,
  "supportsStatistics": false,
  "supportsOrderBy": false,
  "supportsDistinct": false,
  "supportsPagination": false
 },
 "spatialReference": {
  "wkid": 4674,
  "latestWkid": 4674
 }
}
