View In:
ArcGIS JavaScript
ArcGIS Online map viewer
Google Earth
ArcMap
View Footprint In:
ArcGIS Online map viewer
Service Description: Piabanha/ANA_CN_2022_Piabanha
Name: Piabanha/ANA_CN_2022_Piabanha
Description: Piabanha/ANA_CN_2022_Piabanha
Single Fused Map Cache: false
Extent:
XMin: -43.377043754018004
YMin: -22.545646528127605
XMax: -42.71112263258589
YMax: -22.11229923421306
Spatial Reference: GEOGCS["GCS_SIRGAS_2000",DATUM["D_unnamed",SPHEROID["unnamed",6378137.0,298.257222101]],PRIMEM["Greenwich",0.0],UNIT["Degree",0.0174532925199433]]
Initial Extent:
XMin: -43.377043754018004
YMin: -22.545646528127605
XMax: -42.71112263258589
YMax: -22.11229923421306
Spatial Reference: GEOGCS["GCS_SIRGAS_2000",DATUM["D_unnamed",SPHEROID["unnamed",6378137.0,298.257222101]],PRIMEM["Greenwich",0.0],UNIT["Degree",0.0174532925199433]]
Full Extent:
XMin: -43.377043754018004
YMin: -22.545646528127605
XMax: -42.71112263258589
YMax: -22.11229923421306
Spatial Reference: GEOGCS["GCS_SIRGAS_2000",DATUM["D_unnamed",SPHEROID["unnamed",6378137.0,298.257222101]],PRIMEM["Greenwich",0.0],UNIT["Degree",0.0174532925199433]]
Pixel Size X: 2.694945857677512E-4
Pixel Size Y: 2.694945857677511E-4
Band Count: 3
Pixel Type: U8
RasterFunction Infos: N/A
Mensuration Capabilities: Basic
Has Histograms: false
Has Colormap: false
Has Multi Dimensions : false
Rendering Rule:
Min Scale: 0
Max Scale: 0
Copyright Text:
Service Data Type: esriImageServiceDataTypeRGB
Min Values: N/A
Max Values: N/A
Mean Values: N/A
Standard Deviation Values: N/A
Object ID Field:
Fields:
None
Default Mosaic Method: Center
Allowed Mosaic Methods:
SortField:
SortValue: null
Mosaic Operator: First
Default Compression Quality: 75
Default Resampling Method: Bilinear
Max Record Count: null
Max Image Height: 4100
Max Image Width: 15000
Max Download Image Count: null
Max Mosaic Image Count: null
Allow Raster Function: true
Allow Compute TiePoints: false
Supports Statistics: false
Supports Advanced Queries: false
Use StandardizedQueries: true
Raster Type Infos:
Name: Raster Dataset
Description: Supports all ArcGIS Raster Datasets
Help:
Has Raster Attribute Table: false
Edit Fields Info: null
Ownership Based AccessControl For Rasters: null
Child Resources:
Info
Key Properties
Legend
MultiDimensionalInfo
rasterFunctionInfos
Supported Operations:
Export Image
Identify
Measure
Compute Histograms
Compute Statistics Histograms
Get Samples
Compute Class Statistics