{
 "currentVersion": 10.41,
 "serviceDescription": "Piabanha/ANA_CN_2022_Piabanha",
 "name": "Piabanha/ANA_CN_2022_Piabanha",
 "description": "Piabanha/ANA_CN_2022_Piabanha",
 "extent": {
  "xmin": -43.377043754018004,
  "ymin": -22.545646528127605,
  "xmax": -42.71112263258589,
  "ymax": -22.11229923421306,
  "spatialReference": {
   "wkt": "GEOGCS[\"GCS_SIRGAS_2000\",DATUM[\"D_unnamed\",SPHEROID[\"unnamed\",6378137.0,298.257222101]],PRIMEM[\"Greenwich\",0.0],UNIT[\"Degree\",0.0174532925199433]]"
  }
 },
 "initialExtent": {
  "xmin": -43.377043754018004,
  "ymin": -22.545646528127605,
  "xmax": -42.71112263258589,
  "ymax": -22.11229923421306,
  "spatialReference": {
   "wkt": "GEOGCS[\"GCS_SIRGAS_2000\",DATUM[\"D_unnamed\",SPHEROID[\"unnamed\",6378137.0,298.257222101]],PRIMEM[\"Greenwich\",0.0],UNIT[\"Degree\",0.0174532925199433]]"
  }
 },
 "fullExtent": {
  "xmin": -43.377043754018004,
  "ymin": -22.545646528127605,
  "xmax": -42.71112263258589,
  "ymax": -22.11229923421306,
  "spatialReference": {
   "wkt": "GEOGCS[\"GCS_SIRGAS_2000\",DATUM[\"D_unnamed\",SPHEROID[\"unnamed\",6378137.0,298.257222101]],PRIMEM[\"Greenwich\",0.0],UNIT[\"Degree\",0.0174532925199433]]"
  }
 },
 "pixelSizeX": 2.694945857677512E-4,
 "pixelSizeY": 2.694945857677511E-4,
 "bandCount": 3,
 "pixelType": "U8",
 "minPixelSize": 0,
 "maxPixelSize": 0,
 "copyrightText": "",
 "serviceDataType": "esriImageServiceDataTypeRGB",
 "minValues": [],
 "maxValues": [],
 "meanValues": [],
 "stdvValues": [],
 "objectIdField": "",
 "fields": [],
 "capabilities": "Image,Metadata,Mensuration",
 "defaultMosaicMethod": "Center",
 "allowedMosaicMethods": "",
 "sortField": "",
 "sortValue": null,
 "mosaicOperator": "First",
 "defaultCompressionQuality": 75,
 "defaultResamplingMethod": "Bilinear",
 "maxImageHeight": 4100,
 "maxImageWidth": 15000,
 "allowRasterFunction": true,
 "rasterFunctionInfos": [],
 "rasterTypeInfos": [
  {
   "name": "Raster Dataset",
   "description": "Supports all ArcGIS Raster Datasets",
   "help": ""
  }
 ],
 "mensurationCapabilities": "Basic",
 "hasHistograms": false,
 "hasColormap": false,
 "hasRasterAttributeTable": false,
 "minScale": 0,
 "maxScale": 0,
 "exportTilesAllowed": false,
 "hasMultidimensions": false,
 "supportsStatistics": false,
 "supportsAdvancedQueries": false,
 "editFieldsInfo": null,
 "ownershipBasedAccessControlForRasters": null,
 "allowComputeTiePoints": false,
 "useStandardizedQueries": true,
 "advancedQueryCapabilities": {
  "useStandardizedQueries": true,
  "supportsStatistics": false,
  "supportsOrderBy": false,
  "supportsDistinct": false,
  "supportsPagination": false
 },
 "spatialReference": {
  "wkt": "GEOGCS[\"GCS_SIRGAS_2000\",DATUM[\"D_unnamed\",SPHEROID[\"unnamed\",6378137.0,298.257222101]],PRIMEM[\"Greenwich\",0.0],UNIT[\"Degree\",0.0174532925199433]]"
 }
}
