View In:
ArcGIS JavaScript
ArcGIS Online map viewer
Google Earth
ArcMap
View Footprint In:
ArcGIS Online map viewer
Service Description: ppgecam2026/Mapbiomas_202606081849
Name: ppgecam2026/Mapbiomas_202606081849
Description: ppgecam2026/Mapbiomas_202606081849
Single Fused Map Cache: false
Extent:
XMin: -38.76571810783702
YMin: -8.303128171116734
XMax: -34.79282893229002
YMax: -6.025898925873748
Spatial Reference: 4674
(4674)
Initial Extent:
XMin: -38.76571810783702
YMin: -8.303128171116734
XMax: -34.79282893229002
YMax: -6.025898925873748
Spatial Reference: 4674
(4674)
Full Extent:
XMin: -38.76571810783702
YMin: -8.303128171116734
XMax: -34.79282893229002
YMax: -6.025898925873748
Spatial Reference: 4674
(4674)
Pixel Size X: 2.6949458523585647E-4
Pixel Size Y: 2.6949458523585636E-4
Band Count: 25
Pixel Type: U8
RasterFunction Infos: N/A
Mensuration Capabilities: Basic
Has Histograms: false
Has Colormap: false
Has Multi Dimensions : false
Rendering Rule:
Min Scale: 0
Max Scale: 0
Copyright Text:
Service Data Type: esriImageServiceDataTypeGeneric
Min Values: N/A
Max Values: N/A
Mean Values: N/A
Standard Deviation Values: N/A
Object ID Field:
Fields:
None
Default Mosaic Method: Center
Allowed Mosaic Methods:
SortField:
SortValue: null
Mosaic Operator: First
Default Compression Quality: 75
Default Resampling Method: Bilinear
Max Record Count: null
Max Image Height: 4100
Max Image Width: 15000
Max Download Image Count: null
Max Mosaic Image Count: null
Allow Raster Function: true
Allow Compute TiePoints: false
Supports Statistics: false
Supports Advanced Queries: false
Use StandardizedQueries: true
Raster Type Infos:
Name: Raster Dataset
Description: Supports all ArcGIS Raster Datasets
Help:
Has Raster Attribute Table: false
Edit Fields Info: null
Ownership Based AccessControl For Rasters: null
Child Resources:
Info
Key Properties
Legend
MultiDimensionalInfo
rasterFunctionInfos
Supported Operations:
Export Image
Identify
Measure
Compute Histograms
Compute Statistics Histograms
Get Samples
Compute Class Statistics