View In:
ArcGIS JavaScript
ArcGIS Online map viewer
Google Earth
ArcMap
View Footprint In:
ArcGIS Online map viewer
Service Description: WatershedCharacteristics/sa_con_3s
Name: WatershedCharacteristics/sa_con_3s
Description: WatershedCharacteristics/sa_con_3s
Single Fused Map Cache: false
Extent:
XMin: -100
YMin: -59.99999999999996
XMax: -30.00000000000003
YMax: 20
Spatial Reference: 4326
(4326)
Initial Extent:
XMin: -100
YMin: -59.99999999999996
XMax: -30.00000000000003
YMax: 20
Spatial Reference: 4326
(4326)
Full Extent:
XMin: -100
YMin: -59.99999999999996
XMax: -30.00000000000003
YMax: 20
Spatial Reference: 4326
(4326)
Pixel Size X: 8.33333333333333E-4
Pixel Size Y: 8.333333333333328E-4
Band Count: 1
Pixel Type: S16
RasterFunction Infos: N/A
Mensuration Capabilities: Basic
Has Histograms: true
Has Colormap: false
Has Multi Dimensions : false
Rendering Rule:
Min Scale: 0
Max Scale: 0
Copyright Text:
Service Data Type: esriImageServiceDataTypeThematic
Min Values: -127
Max Values: 6844
Mean Values: 582.25131938602
Standard Deviation Values: 921.84572158242
Object ID Field:
Fields:
None
Default Mosaic Method: Center
Allowed Mosaic Methods:
SortField:
SortValue: null
Mosaic Operator: First
Default Compression Quality: 75
Default Resampling Method: Bilinear
Max Record Count: null
Max Image Height: 41000
Max Image Width: 150000
Max Download Image Count: null
Max Mosaic Image Count: null
Allow Raster Function: true
Allow Compute TiePoints: false
Supports Statistics: false
Supports Advanced Queries: false
Use StandardizedQueries: true
Raster Type Infos:
Name: Raster Dataset
Description: Supports all ArcGIS Raster Datasets
Help:
Has Raster Attribute Table: false
Edit Fields Info: null
Ownership Based AccessControl For Rasters: null
Child Resources:
Info
Histograms
Key Properties
Legend
MultiDimensionalInfo
rasterFunctionInfos
Supported Operations:
Export Image
Identify
Measure
Compute Histograms
Compute Statistics Histograms
Get Samples
Compute Class Statistics