View In:
ArcGIS JavaScript
ArcGIS Online map viewer
Google Earth
ArcMap
View Footprint In:
ArcGIS Online map viewer
Service Description: WatershedCharacteristics/brasil_coverage_2000
Name: WatershedCharacteristics/brasil_coverage_2000
Description: WatershedCharacteristics/brasil_coverage_2000
Single Fused Map Cache: false
Extent:
XMin: -74.89739613957876
YMin: -34.79175095394907
XMax: -33.06132622214964
YMax: 7.91209152793951
Spatial Reference: 4326
(4326)
Initial Extent:
XMin: -74.89739613957876
YMin: -34.79175095394907
XMax: -33.06132622214964
YMax: 7.91209152793951
Spatial Reference: 4326
(4326)
Full Extent:
XMin: -74.89739613957876
YMin: -34.79175095394907
XMax: -33.06132622214964
YMax: 7.91209152793951
Spatial Reference: 4326
(4326)
Pixel Size X: 2.6949458523585647E-4
Pixel Size Y: 2.6949458523585647E-4
Band Count: 1
Pixel Type: U8
RasterFunction Infos: N/A
Mensuration Capabilities: Basic
Has Histograms: false
Has Colormap: false
Has Multi Dimensions : false
Rendering Rule:
Min Scale: 0
Max Scale: 0
Copyright Text:
Service Data Type: esriImageServiceDataTypeGeneric
Min Values: 0
Max Values: 50
Mean Values: 3.6994029500037
Standard Deviation Values: 7.4858006553802
Object ID Field:
Fields:
None
Default Mosaic Method: Center
Allowed Mosaic Methods:
SortField:
SortValue: null
Mosaic Operator: First
Default Compression Quality: 75
Default Resampling Method: Bilinear
Max Record Count: null
Max Image Height: 4100
Max Image Width: 15000
Max Download Image Count: null
Max Mosaic Image Count: null
Allow Raster Function: true
Allow Compute TiePoints: false
Supports Statistics: false
Supports Advanced Queries: false
Use StandardizedQueries: true
Raster Type Infos:
Name: Raster Dataset
Description: Supports all ArcGIS Raster Datasets
Help:
Has Raster Attribute Table: false
Edit Fields Info: null
Ownership Based AccessControl For Rasters: null
Child Resources:
Info
Key Properties
Legend
MultiDimensionalInfo
rasterFunctionInfos
Supported Operations:
Export Image
Identify
Measure
Compute Histograms
Compute Statistics Histograms
Get Samples
Compute Class Statistics