View In:
ArcGIS JavaScript
ArcGIS Online map viewer
Google Earth
ArcMap
View Footprint In:
ArcGIS Online map viewer
Service Description: LandUse(IBGE, 2020)
Name: WatershedCharacteristics/LandUse
Description: LandUse(IBGE, 2020)
Single Fused Map Cache: false
Extent:
XMin: -74.00005989467657
YMin: -33.878091759421565
XMax: -28.711259894676566
YMax: 5.273908240578436
Spatial Reference: 4674
(4674)
Initial Extent:
XMin: -74.00005989467657
YMin: -33.878091759421565
XMax: -28.711259894676566
YMax: 5.273908240578436
Spatial Reference: 4674
(4674)
Full Extent:
XMin: -74.00005989467657
YMin: -33.878091759421565
XMax: -28.711259894676566
YMax: 5.273908240578436
Spatial Reference: 4674
(4674)
Pixel Size X: 8.0E-4
Pixel Size Y: 8.0E-4
Band Count: 1
Pixel Type: U8
RasterFunction Infos: N/A
Mensuration Capabilities: Basic
Has Histograms: true
Has Colormap: false
Has Multi Dimensions : false
Rendering Rule:
Min Scale: 0
Max Scale: 0
Copyright Text: LandUse(IBGE, 2020)
Service Data Type: esriImageServiceDataTypeGeneric
Min Values: 1
Max Values: 14
Mean Values: 6.2329115843241
Standard Deviation Values: 2.913611337381
Object ID Field:
Fields:
None
Default Mosaic Method: Center
Allowed Mosaic Methods:
SortField:
SortValue: null
Mosaic Operator: First
Default Compression Quality: 75
Default Resampling Method: Nearest
Max Record Count: null
Max Image Height: 4100
Max Image Width: 15000
Max Download Image Count: null
Max Mosaic Image Count: null
Allow Raster Function: true
Allow Compute TiePoints: false
Supports Statistics: false
Supports Advanced Queries: false
Use StandardizedQueries: true
Raster Type Infos:
Name: Raster Dataset
Description: Supports all ArcGIS Raster Datasets
Help:
Has Raster Attribute Table: true
Edit Fields Info: null
Ownership Based AccessControl For Rasters: null
Child Resources:
Info
Raster Attribute Table
Histograms
Key Properties
Legend
MultiDimensionalInfo
rasterFunctionInfos
Supported Operations:
Export Image
Identify
Measure
Compute Histograms
Compute Statistics Histograms
Get Samples
Compute Class Statistics