View In:
ArcGIS JavaScript
ArcGIS Online map viewer
Google Earth
ArcMap
View Footprint In:
ArcGIS Online map viewer
Service Description: isozona taborga torrigo
Name: WatershedCharacteristics/Isozona
Description: isozona taborga torrigo
Single Fused Map Cache: false
Extent:
XMin: -74.002371386
YMin: -33.751177994
XMax: -34.792884974
YMax: 5.271841077
Spatial Reference: 4326
(4326)
Initial Extent:
XMin: -74.002371386
YMin: -33.751177994
XMax: -34.792884974
YMax: 5.271841077
Spatial Reference: 4326
(4326)
Full Extent:
XMin: -74.002371386
YMin: -33.751177994
XMax: -34.792884974
YMax: 5.271841077
Spatial Reference: 4326
(4326)
Pixel Size X: 0.07841897282399998
Pixel Size Y: 0.07804603814200001
Band Count: 1
Pixel Type: F32
RasterFunction Infos: N/A
Mensuration Capabilities: Basic
Has Histograms: false
Has Colormap: false
Has Multi Dimensions : false
Rendering Rule:
Min Scale: 0
Max Scale: 0
Copyright Text: isozona taborga torrigo
Service Data Type: esriImageServiceDataTypeGeneric
Min Values: N/A
Max Values: N/A
Mean Values: N/A
Standard Deviation Values: N/A
Object ID Field:
Fields:
None
Default Mosaic Method: Center
Allowed Mosaic Methods:
SortField:
SortValue: null
Mosaic Operator: First
Default Compression Quality: 75
Default Resampling Method: Nearest
Max Record Count: null
Max Image Height: 4100
Max Image Width: 15000
Max Download Image Count: null
Max Mosaic Image Count: null
Allow Raster Function: true
Allow Compute TiePoints: false
Supports Statistics: false
Supports Advanced Queries: false
Use StandardizedQueries: true
Raster Type Infos:
Name: Raster Dataset
Description: Supports all ArcGIS Raster Datasets
Help:
Has Raster Attribute Table: false
Edit Fields Info: null
Ownership Based AccessControl For Rasters: null
Child Resources:
Info
Key Properties
Legend
MultiDimensionalInfo
rasterFunctionInfos
Supported Operations:
Export Image
Identify
Measure
Compute Histograms
Compute Statistics Histograms
Get Samples
Compute Class Statistics