View In:
ArcGIS JavaScript
ArcGIS Online map viewer
Google Earth
ArcMap
View Footprint In:
ArcGIS Online map viewer
Service Description: Hydrogeological Domains
Name: WatershedCharacteristics/Hydrogeology
Description: Hydrogeological Domains
Single Fused Map Cache: false
Extent:
XMin: -73.99158515604692
YMin: -33.751470971322505
XMax: -34.789985156046924
YMax: 5.282929028677501
Spatial Reference: 4326
(4326)
Initial Extent:
XMin: -73.99158515604692
YMin: -33.751470971322505
XMax: -34.789985156046924
YMax: 5.282929028677501
Spatial Reference: 4326
(4326)
Full Extent:
XMin: -73.99158515604692
YMin: -33.751470971322505
XMax: -34.789985156046924
YMax: 5.282929028677501
Spatial Reference: 4326
(4326)
Pixel Size X: 7.999999999999999E-4
Pixel Size Y: 8.000000000000001E-4
Band Count: 1
Pixel Type: U8
RasterFunction Infos: N/A
Mensuration Capabilities: Basic
Has Histograms: true
Has Colormap: false
Has Multi Dimensions : false
Rendering Rule:
Min Scale: 0
Max Scale: 0
Copyright Text: SGB(CPRM)
Service Data Type: esriImageServiceDataTypeGeneric
Min Values: 1
Max Values: 7
Mean Values: 3.0932813037218
Standard Deviation Values: 2.0476642849417
Object ID Field:
Fields:
None
Default Mosaic Method: Center
Allowed Mosaic Methods:
SortField:
SortValue: null
Mosaic Operator: First
Default Compression Quality: 75
Default Resampling Method: Nearest
Max Record Count: null
Max Image Height: 4100
Max Image Width: 15000
Max Download Image Count: null
Max Mosaic Image Count: null
Allow Raster Function: true
Allow Compute TiePoints: false
Supports Statistics: false
Supports Advanced Queries: false
Use StandardizedQueries: true
Raster Type Infos:
Name: Raster Dataset
Description: Supports all ArcGIS Raster Datasets
Help:
Has Raster Attribute Table: true
Edit Fields Info: null
Ownership Based AccessControl For Rasters: null
Child Resources:
Info
Raster Attribute Table
Histograms
Key Properties
Legend
MultiDimensionalInfo
rasterFunctionInfos
Supported Operations:
Export Image
Identify
Measure
Compute Histograms
Compute Statistics Histograms
Get Samples
Compute Class Statistics