View In:
ArcGIS JavaScript
ArcGIS Online map viewer
Google Earth
ArcMap
View Footprint In:
ArcGIS Online map viewer
Service Description: Piabanha/RiscoTR50Sec
Name: Piabanha/RiscoTR50Sec
Description: Piabanha/RiscoTR50Sec
Single Fused Map Cache: false
Extent:
XMin: 687720.2253
YMin: 7515930.6023
XMax: 698985.2253
YMax: 7553820.6023
Spatial Reference: 31983
(31983)
Initial Extent:
XMin: 687720.2253
YMin: 7515930.6023
XMax: 698985.2253
YMax: 7553820.6023
Spatial Reference: 31983
(31983)
Full Extent:
XMin: 687720.2253
YMin: 7515930.6023
XMax: 698985.2253
YMax: 7553820.6023
Spatial Reference: 31983
(31983)
Pixel Size X: 3.0
Pixel Size Y: 3.0
Band Count: 1
Pixel Type: U8
RasterFunction Infos: N/A
Mensuration Capabilities: Basic
Has Histograms: true
Has Colormap: false
Has Multi Dimensions : false
Rendering Rule:
Min Scale: 0
Max Scale: 0
Copyright Text:
Service Data Type: esriImageServiceDataTypeGeneric
Min Values: 1
Max Values: 4
Mean Values: 2.9718850964913
Standard Deviation Values: 0.48843844404487
Object ID Field:
Fields:
None
Default Mosaic Method: Center
Allowed Mosaic Methods:
SortField:
SortValue: null
Mosaic Operator: First
Default Compression Quality: 75
Default Resampling Method: Bilinear
Max Record Count: null
Max Image Height: 4100
Max Image Width: 15000
Max Download Image Count: null
Max Mosaic Image Count: null
Allow Raster Function: true
Allow Compute TiePoints: false
Supports Statistics: false
Supports Advanced Queries: false
Use StandardizedQueries: true
Raster Type Infos:
Name: Raster Dataset
Description: Supports all ArcGIS Raster Datasets
Help:
Has Raster Attribute Table: false
Edit Fields Info: null
Ownership Based AccessControl For Rasters: null
Child Resources:
Info
Histograms
Key Properties
Legend
MultiDimensionalInfo
rasterFunctionInfos
Supported Operations:
Export Image
Identify
Measure
Compute Histograms
Compute Statistics Histograms
Get Samples
Compute Class Statistics