View In:
ArcGIS JavaScript
ArcGIS Online map viewer
Google Earth
ArcMap
View Footprint In:
ArcGIS Online map viewer
Service Description: Piabanha/PerigoTr100Prim
Name: Piabanha/PerigoTr100Prim
Description: Piabanha/PerigoTr100Prim
Single Fused Map Cache: false
Extent:
XMin: 683654.225344103
YMin: 7506699.10232547
XMax: 693254.225344103
YMax: 7517323.10232547
Spatial Reference: 31983
(31983)
Initial Extent:
XMin: 683654.225344103
YMin: 7506699.10232547
XMax: 693254.225344103
YMax: 7517323.10232547
Spatial Reference: 31983
(31983)
Full Extent:
XMin: 683654.225344103
YMin: 7506699.10232547
XMax: 693254.225344103
YMax: 7517323.10232547
Spatial Reference: 31983
(31983)
Pixel Size X: 0.5
Pixel Size Y: 0.5
Band Count: 1
Pixel Type: U8
RasterFunction Infos: N/A
Mensuration Capabilities: Basic
Has Histograms: true
Has Colormap: false
Has Multi Dimensions : false
Rendering Rule:
Min Scale: 0
Max Scale: 0
Copyright Text:
Service Data Type: esriImageServiceDataTypeGeneric
Min Values: 1
Max Values: 4
Mean Values: 3.6263583667488
Standard Deviation Values: 0.79127980988615
Object ID Field:
Fields:
None
Default Mosaic Method: Center
Allowed Mosaic Methods:
SortField:
SortValue: null
Mosaic Operator: First
Default Compression Quality: 75
Default Resampling Method: Bilinear
Max Record Count: null
Max Image Height: 4100
Max Image Width: 15000
Max Download Image Count: null
Max Mosaic Image Count: null
Allow Raster Function: true
Allow Compute TiePoints: false
Supports Statistics: false
Supports Advanced Queries: false
Use StandardizedQueries: true
Raster Type Infos:
Name: Raster Dataset
Description: Supports all ArcGIS Raster Datasets
Help:
Has Raster Attribute Table: true
Edit Fields Info: null
Ownership Based AccessControl For Rasters: null
Child Resources:
Info
Raster Attribute Table
Histograms
Key Properties
Legend
MultiDimensionalInfo
rasterFunctionInfos
Supported Operations:
Export Image
Identify
Measure
Compute Histograms
Compute Statistics Histograms
Get Samples
Compute Class Statistics