View In:
ArcGIS JavaScript
ArcGIS Online map viewer
Google Earth
ArcMap
View Footprint In:
ArcGIS Online map viewer
Service Description: PPGECAM2025/ei30_grid_mean
Name: PPGECAM2025/ei30_grid_mean
Description: PPGECAM2025/ei30_grid_mean
Single Fused Map Cache: false
Extent:
XMin: -73.9868097
YMin: -33.751177999976
XMax: -28.847639900027993
YMax: 5.320899084945999
Spatial Reference: 4674
(4674)
Initial Extent:
XMin: -73.9868097
YMin: -33.751177999976
XMax: -28.847639900027993
YMax: 5.320899084945999
Spatial Reference: 4674
(4674)
Full Extent:
XMin: -73.9868097
YMin: -33.751177999976
XMax: -28.847639900027993
YMax: 5.320899084945999
Spatial Reference: 4674
(4674)
Pixel Size X: 0.121341854301
Pixel Size Y: 0.121341854301
Band Count: 3
Pixel Type: U8
RasterFunction Infos: N/A
Mensuration Capabilities: Basic
Has Histograms: false
Has Colormap: false
Has Multi Dimensions : false
Rendering Rule:
Min Scale: 0
Max Scale: 0
Copyright Text:
Service Data Type: esriImageServiceDataTypeRGB
Min Values: N/A
Max Values: N/A
Mean Values: N/A
Standard Deviation Values: N/A
Object ID Field:
Fields:
None
Default Mosaic Method: Center
Allowed Mosaic Methods:
SortField:
SortValue: null
Mosaic Operator: First
Default Compression Quality: 75
Default Resampling Method: Bilinear
Max Record Count: null
Max Image Height: 4100
Max Image Width: 15000
Max Download Image Count: null
Max Mosaic Image Count: null
Allow Raster Function: true
Allow Compute TiePoints: false
Supports Statistics: false
Supports Advanced Queries: false
Use StandardizedQueries: true
Raster Type Infos:
Name: Raster Dataset
Description: Supports all ArcGIS Raster Datasets
Help:
Has Raster Attribute Table: false
Edit Fields Info: null
Ownership Based AccessControl For Rasters: null
Child Resources:
Info
Key Properties
Legend
MultiDimensionalInfo
rasterFunctionInfos
Supported Operations:
Export Image
Identify
Measure
Compute Histograms
Compute Statistics Histograms
Get Samples
Compute Class Statistics